BEGIN:VCALENDAR
VERSION:2.0
PRODID:-//GirlsCodeToo - ECPv6.15.20//NONSGML v1.0//EN
CALSCALE:GREGORIAN
METHOD:PUBLISH
X-ORIGINAL-URL:https://www.girlscodetoo.ch/en
X-WR-CALDESC:Events for GirlsCodeToo
REFRESH-INTERVAL;VALUE=DURATION:PT1H
X-Robots-Tag:noindex
X-PUBLISHED-TTL:PT1H
BEGIN:VTIMEZONE
TZID:UTC
BEGIN:STANDARD
TZOFFSETFROM:+0000
TZOFFSETTO:+0000
TZNAME:UTC
DTSTART:20230101T000000
END:STANDARD
END:VTIMEZONE
BEGIN:VEVENT
DTSTART;TZID=UTC:20240207T000000
DTEND;TZID=UTC:20240207T000000
DTSTAMP:20260423T113118
CREATED:20250731T233832Z
LAST-MODIFIED:20250731T233832Z
UID:63476-1707264000-1707264000@www.girlscodetoo.ch
SUMMARY:TecDay - Payerne
DESCRIPTION:What are TecDays?Since 2007\, SATW has been organizing TecDays at Swiss high schools. During this full-day event\, all high school students attend three elective modules on technical and scientific topics. The hands-on modules provide ample visual materials\, experiments\, models\, or small projects\, offering insights into the activities and daily lives of professionals. Module leaders are experienced experts from industry\, universities\, research institutions\, and non-profit organizations. \n\n\n\n\n\nHow is GirlsCodeToo involved?We teach our Mobile App Development Workshop. The students create their own app in JavaScript using either block based programming or text in Code.org. First\, the properties of the app are set. It is then made interactive\, images\, sounds and designs are added and it can finally be shared.
URL:https://www.girlscodetoo.ch/en/event/tecday-payerne/
CATEGORIES:For Schools
END:VEVENT
BEGIN:VEVENT
DTSTART;TZID=UTC:20240207T000000
DTEND;TZID=UTC:20240207T000000
DTSTAMP:20260423T113118
CREATED:20250731T233833Z
LAST-MODIFIED:20250731T233833Z
UID:63477-1707264000-1707264000@www.girlscodetoo.ch
SUMMARY:Go4IT - Romanshorn
DESCRIPTION:What is Go4IT?Go4IT\, offered by the satw (Swiss Academy of Technical Science)\, is a two-part workshop designed for 1st and 2nd secondary school classes\, focusing on career orientation in IT and laptop programming within a team setting. Over four school hours\, students not only recognize biases in career choices but also boost their self-esteem. The workshop provides insights into the diversity of IT professions\, sheds light on their significance\, and demonstrates how relevant skills can influence current challenges. The objective is to engage students playfully and enjoyably\, fostering enthusiasm for the world of IT and technology. \n\n\n\nHow is GirlsCodeToo involved?We teach our ImagiCharm Keychain Programming Workshop. The students create their own pixelated designs in Python. The basics of programming are taught in an intuitive way\, using the ImagiCharm Keychains to display the coded designs and see live how changing code lines on a computer directly changes the output.
URL:https://www.girlscodetoo.ch/en/event/go4it-romanshorn/
CATEGORIES:For Schools
END:VEVENT
BEGIN:VEVENT
DTSTART;TZID=UTC:20240207T000000
DTEND;TZID=UTC:20240207T000000
DTSTAMP:20260423T113118
CREATED:20250731T233834Z
LAST-MODIFIED:20250731T233834Z
UID:63478-1707264000-1707264000@www.girlscodetoo.ch
SUMMARY:TecDay - Thun
DESCRIPTION:What are TecDays?Since 2007\, SATW has been organizing TecDays at Swiss high schools. During this full-day event\, all high school students attend three elective modules on technical and scientific topics. The hands-on modules provide ample visual materials\, experiments\, models\, or small projects\, offering insights into the activities and daily lives of professionals. Module leaders are experienced experts from industry\, universities\, research institutions\, and non-profit organizations. \n\n\n\n\n\nHow is GirlsCodeToo involved?We teach our Mobile App Development Workshop. The students create their own app in JavaScript using either block based programming or text in Code.org. First\, the properties of the app are set. It is then made interactive\, images\, sounds and designs are added and it can finally be shared.
URL:https://www.girlscodetoo.ch/en/event/tecday-thun/
CATEGORIES:For Schools
ATTACH;FMTTYPE=image/png:https://www.girlscodetoo.ch/wp-content/uploads/2025/08/mint_netzwerkpartner_tecday-1-DPakw7.png
END:VEVENT
BEGIN:VEVENT
DTSTART;TZID=UTC:20240207T000000
DTEND;TZID=UTC:20240207T000000
DTSTAMP:20260423T113118
CREATED:20250731T233835Z
LAST-MODIFIED:20250731T233835Z
UID:63479-1707264000-1707264000@www.girlscodetoo.ch
SUMMARY:TecDay - Trogen
DESCRIPTION:What are TecDays?Since 2007\, SATW has been organizing TecDays at Swiss high schools. During this full-day event\, all high school students attend three elective modules on technical and scientific topics. The hands-on modules provide ample visual materials\, experiments\, models\, or small projects\, offering insights into the activities and daily lives of professionals. Module leaders are experienced experts from industry\, universities\, research institutions\, and non-profit organizations. \n\n\n\n\n\nHow is GirlsCodeToo involved?We teach our Mobile App Development Workshop. The students create their own app in JavaScript using either block based programming or text in Code.org. First\, the properties of the app are set. It is then made interactive\, images\, sounds and designs are added and it can finally be shared.
URL:https://www.girlscodetoo.ch/en/event/tecday-trogen/
CATEGORIES:For Schools
ATTACH;FMTTYPE=image/png:https://www.girlscodetoo.ch/wp-content/uploads/2025/08/mint_netzwerkpartner_tecday-1-DPakw7.png
END:VEVENT
BEGIN:VEVENT
DTSTART;TZID=UTC:20240207T000000
DTEND;TZID=UTC:20240207T000000
DTSTAMP:20260423T113118
CREATED:20250731T233837Z
LAST-MODIFIED:20250731T233837Z
UID:63481-1707264000-1707264000@www.girlscodetoo.ch
SUMMARY:TecDay - Chur
DESCRIPTION:What are TecDays?Since 2007\, SATW has been organizing TecDays at Swiss high schools. During this full-day event\, all high school students attend three elective modules on technical and scientific topics. The hands-on modules provide ample visual materials\, experiments\, models\, or small projects\, offering insights into the activities and daily lives of professionals. Module leaders are experienced experts from industry\, universities\, research institutions\, and non-profit organizations. \n\n\n\n\n\nHow is GirlsCodeToo involved?We teach our Mobile App Development Workshop. The students create their own app in JavaScript using either block based programming or text in Code.org. First\, the properties of the app are set. It is then made interactive\, images\, sounds and designs are added and it can finally be shared.
URL:https://www.girlscodetoo.ch/en/event/tecday-chur-2/
CATEGORIES:For Schools
ATTACH;FMTTYPE=image/png:https://www.girlscodetoo.ch/wp-content/uploads/2025/08/mint_netzwerkpartner_tecday-1-DPakw7.png
END:VEVENT
BEGIN:VEVENT
DTSTART;TZID=UTC:20240207T000000
DTEND;TZID=UTC:20240207T000000
DTSTAMP:20260423T113118
CREATED:20250731T233840Z
LAST-MODIFIED:20250731T233840Z
UID:63482-1707264000-1707264000@www.girlscodetoo.ch
SUMMARY:TecDay - Sion
DESCRIPTION:What are TecDays?Since 2007\, SATW has been organizing TecDays at Swiss high schools. During this full-day event\, all high school students attend three elective modules on technical and scientific topics. The hands-on modules provide ample visual materials\, experiments\, models\, or small projects\, offering insights into the activities and daily lives of professionals. Module leaders are experienced experts from industry\, universities\, research institutions\, and non-profit organizations. \n\n\n\n\n\nHow is GirlsCodeToo involved?We teach our Mobile App Development Workshop. The students create their own app in JavaScript using either block based programming or text in Code.org. First\, the properties of the app are set. It is then made interactive\, images\, sounds and designs are added and it can finally be shared.
URL:https://www.girlscodetoo.ch/en/event/tecday-sion/
CATEGORIES:For Schools
ATTACH;FMTTYPE=image/png:https://www.girlscodetoo.ch/wp-content/uploads/2025/08/mint_netzwerkpartner_tecday-1-DPakw7.png
END:VEVENT
BEGIN:VEVENT
DTSTART;TZID=UTC:20240207T000000
DTEND;TZID=UTC:20240207T000000
DTSTAMP:20260423T113118
CREATED:20250731T233841Z
LAST-MODIFIED:20250731T233841Z
UID:63483-1707264000-1707264000@www.girlscodetoo.ch
SUMMARY:TecDay - Baden
DESCRIPTION:What are TecDays?Since 2007\, SATW has been organizing TecDays at Swiss high schools. During this full-day event\, all high school students attend three elective modules on technical and scientific topics. The hands-on modules provide ample visual materials\, experiments\, models\, or small projects\, offering insights into the activities and daily lives of professionals. Module leaders are experienced experts from industry\, universities\, research institutions\, and non-profit organizations. \n\n\n\n\n\nHow is GirlsCodeToo involved?We teach our Mobile App Development Workshop. The students create their own app in JavaScript using either block based programming or text in Code.org. First\, the properties of the app are set. It is then made interactive\, images\, sounds and designs are added and it can finally be shared.
URL:https://www.girlscodetoo.ch/en/event/tecday-baden/
CATEGORIES:For Schools
ATTACH;FMTTYPE=image/png:https://www.girlscodetoo.ch/wp-content/uploads/2025/08/mint_netzwerkpartner_tecday-1-DPakw7.png
END:VEVENT
BEGIN:VEVENT
DTSTART;TZID=UTC:20240207T000000
DTEND;TZID=UTC:20240207T000000
DTSTAMP:20260423T113118
CREATED:20250731T233842Z
LAST-MODIFIED:20250731T233842Z
UID:63484-1707264000-1707264000@www.girlscodetoo.ch
SUMMARY:TecDay - Genève
DESCRIPTION:What are TecDays?Since 2007\, SATW has been organizing TecDays at Swiss high schools. During this full-day event\, all high school students attend three elective modules on technical and scientific topics. The hands-on modules provide ample visual materials\, experiments\, models\, or small projects\, offering insights into the activities and daily lives of professionals. Module leaders are experienced experts from industry\, universities\, research institutions\, and non-profit organizations. \n\n\n\n\n\nHow is GirlsCodeToo involved?We teach our Mobile App Development Workshop. The students create their own app in JavaScript using either block based programming or text in Code.org. First\, the properties of the app are set. It is then made interactive\, images\, sounds and designs are added and it can finally be shared.
URL:https://www.girlscodetoo.ch/en/event/tecday-geneve/
CATEGORIES:For Schools
ATTACH;FMTTYPE=image/png:https://www.girlscodetoo.ch/wp-content/uploads/2025/08/mint_netzwerkpartner_tecday-1-DPakw7.png
END:VEVENT
BEGIN:VEVENT
DTSTART;TZID=UTC:20240207T000000
DTEND;TZID=UTC:20240207T000000
DTSTAMP:20260423T113118
CREATED:20250731T233843Z
LAST-MODIFIED:20250731T233843Z
UID:63485-1707264000-1707264000@www.girlscodetoo.ch
SUMMARY:TecDay - Sursee
DESCRIPTION:What are TecDays?Since 2007\, SATW has been organizing TecDays at Swiss high schools. During this full-day event\, all high school students attend three elective modules on technical and scientific topics. The hands-on modules provide ample visual materials\, experiments\, models\, or small projects\, offering insights into the activities and daily lives of professionals. Module leaders are experienced experts from industry\, universities\, research institutions\, and non-profit organizations. \n\n\n\n\n\nHow is GirlsCodeToo involved?We teach our Mobile App Development Workshop. The students create their own app in JavaScript using either block based programming or text in Code.org. First\, the properties of the app are set. It is then made interactive\, images\, sounds and designs are added and it can finally be shared.
URL:https://www.girlscodetoo.ch/en/event/tecday-sursee/
CATEGORIES:For Schools
ATTACH;FMTTYPE=image/png:https://www.girlscodetoo.ch/wp-content/uploads/2025/08/mint_netzwerkpartner_tecday-1-DPakw7.png
END:VEVENT
BEGIN:VEVENT
DTSTART;TZID=UTC:20240207T000000
DTEND;TZID=UTC:20240207T000000
DTSTAMP:20260423T113118
CREATED:20250731T233844Z
LAST-MODIFIED:20250731T233844Z
UID:63486-1707264000-1707264000@www.girlscodetoo.ch
SUMMARY:TecDay - Zürich Unterland
DESCRIPTION:What are TecDays?Since 2007\, SATW has been organizing TecDays at Swiss high schools. During this full-day event\, all high school students attend three elective modules on technical and scientific topics. The hands-on modules provide ample visual materials\, experiments\, models\, or small projects\, offering insights into the activities and daily lives of professionals. Module leaders are experienced experts from industry\, universities\, research institutions\, and non-profit organizations. \n\n\n\n\n\nHow is GirlsCodeToo involved?We teach our Mobile App Development Workshop. The students create their own app in JavaScript using either block based programming or text in Code.org. First\, the properties of the app are set. It is then made interactive\, images\, sounds and designs are added and it can finally be shared.
URL:https://www.girlscodetoo.ch/en/event/tecday-zurich-unterland/
CATEGORIES:For Schools
ATTACH;FMTTYPE=image/png:https://www.girlscodetoo.ch/wp-content/uploads/2025/08/mint_netzwerkpartner_tecday-1-DPakw7.png
END:VEVENT
BEGIN:VEVENT
DTSTART;TZID=UTC:20240207T000000
DTEND;TZID=UTC:20240207T000000
DTSTAMP:20260423T113118
CREATED:20250731T233858Z
LAST-MODIFIED:20250731T233858Z
UID:63487-1707264000-1707264000@www.girlscodetoo.ch
SUMMARY:Go4IT - Zürich Wollishofen
DESCRIPTION:What is Go4IT?Go4IT\, offered by the satw (Swiss Academy of Technical Science)\, is a two-part workshop designed for 1st and 2nd secondary school classes\, focusing on career orientation in IT and laptop programming within a team setting. Over four school hours\, students not only recognize biases in career choices but also boost their self-esteem. The workshop provides insights into the diversity of IT professions\, sheds light on their significance\, and demonstrates how relevant skills can influence current challenges. The objective is to engage students playfully and enjoyably\, fostering enthusiasm for the world of IT and technology. \n\n\n\nHow is GirlsCodeToo involved?We teach our ImagiCharm Keychain Programming Workshop. The students create their own pixelated designs in Python. The basics of programming are taught in an intuitive way\, using the ImagiCharm Keychains to display the coded designs and see live how changing code lines on a computer directly changes the output.
URL:https://www.girlscodetoo.ch/en/event/go4it-zurich-wollishofen/
CATEGORIES:For Schools
ATTACH;FMTTYPE=image/png:https://www.girlscodetoo.ch/wp-content/uploads/2025/08/image-1024x576-1-mTwScQ.png
END:VEVENT
BEGIN:VEVENT
DTSTART;TZID=UTC:20240207T000000
DTEND;TZID=UTC:20240207T000000
DTSTAMP:20260423T113118
CREATED:20250731T233859Z
LAST-MODIFIED:20250731T233859Z
UID:63488-1707264000-1707264000@www.girlscodetoo.ch
SUMMARY:Go4IT - Zürich Oerlikon
DESCRIPTION:What is Go4IT?Go4IT\, offered by the satw (Swiss Academy of Technical Science)\, is a two-part workshop designed for 1st and 2nd secondary school classes\, focusing on career orientation in IT and laptop programming within a team setting. Over four school hours\, students not only recognize biases in career choices but also boost their self-esteem. The workshop provides insights into the diversity of IT professions\, sheds light on their significance\, and demonstrates how relevant skills can influence current challenges. The objective is to engage students playfully and enjoyably\, fostering enthusiasm for the world of IT and technology. \n\n\n\nHow is GirlsCodeToo involved?We teach our ImagiCharm Keychain Programming Workshop. The students create their own pixelated designs in Python. The basics of programming are taught in an intuitive way\, using the ImagiCharm Keychains to display the coded designs and see live how changing code lines on a computer directly changes the output.
URL:https://www.girlscodetoo.ch/en/event/go4it-zurich-oerlikon/
CATEGORIES:For Schools
ATTACH;FMTTYPE=image/png:https://www.girlscodetoo.ch/wp-content/uploads/2025/08/image-1024x576-1-Mo9Q6J.png
END:VEVENT
BEGIN:VEVENT
DTSTART;TZID=UTC:20240207T000000
DTEND;TZID=UTC:20240207T000000
DTSTAMP:20260423T113118
CREATED:20250731T233900Z
LAST-MODIFIED:20250731T233900Z
UID:63490-1707264000-1707264000@www.girlscodetoo.ch
SUMMARY:Go4IT - Winterthur
DESCRIPTION:What is Go4IT?Go4IT\, offered by the satw (Swiss Academy of Technical Science)\, is a two-part workshop designed for 1st and 2nd secondary school classes\, focusing on career orientation in IT and laptop programming within a team setting. Over four school hours\, students not only recognize biases in career choices but also boost their self-esteem. The workshop provides insights into the diversity of IT professions\, sheds light on their significance\, and demonstrates how relevant skills can influence current challenges. The objective is to engage students playfully and enjoyably\, fostering enthusiasm for the world of IT and technology. \n\n\n\nHow is GirlsCodeToo involved?We teach our ImagiCharm Keychain Programming Workshop. The students create their own pixelated designs in Python. The basics of programming are taught in an intuitive way\, using the ImagiCharm Keychains to display the coded designs and see live how changing code lines on a computer directly changes the output.
URL:https://www.girlscodetoo.ch/en/event/go4it-winterthur/
CATEGORIES:For Schools
ATTACH;FMTTYPE=image/png:https://www.girlscodetoo.ch/wp-content/uploads/2025/08/image-1024x576-1-bv24ui.png
END:VEVENT
BEGIN:VEVENT
DTSTART;TZID=UTC:20240219T000000
DTEND;TZID=UTC:20240219T000000
DTSTAMP:20260423T113118
CREATED:20250731T233915Z
LAST-MODIFIED:20250731T233915Z
UID:63497-1708300800-1708300800@www.girlscodetoo.ch
SUMMARY:Go4IT - Yverdon-les-Bains
DESCRIPTION:What is Go4IT?Go4IT\, offered by the satw (Swiss Academy of Technical Science)\, is a two-part workshop designed for 1st and 2nd secondary school classes\, focusing on career orientation in IT and laptop programming within a team setting. Over four school hours\, students not only recognize biases in career choices but also boost their self-esteem. The workshop provides insights into the diversity of IT professions\, sheds light on their significance\, and demonstrates how relevant skills can influence current challenges. The objective is to engage students playfully and enjoyably\, fostering enthusiasm for the world of IT and technology. \n\n\n\nHow is GirlsCodeToo involved?We teach our ImagiCharm Keychain Programming Workshop. The students create their own pixelated designs in Python. The basics of programming are taught in an intuitive way\, using the ImagiCharm Keychains to display the coded designs and see live how changing code lines on a computer directly changes the output.
URL:https://www.girlscodetoo.ch/en/event/go4it-yverdon-les-bains/
CATEGORIES:For Schools
ATTACH;FMTTYPE=image/png:https://www.girlscodetoo.ch/wp-content/uploads/2025/08/image-1024x576-1-bv24ui.png
END:VEVENT
BEGIN:VEVENT
DTSTART;TZID=UTC:20240219T000000
DTEND;TZID=UTC:20240219T000000
DTSTAMP:20260423T113118
CREATED:20250731T233916Z
LAST-MODIFIED:20250731T233916Z
UID:63498-1708300800-1708300800@www.girlscodetoo.ch
SUMMARY:Go4IT - Yverdon-les-Bains
DESCRIPTION:What is Go4IT?Go4IT\, offered by the satw (Swiss Academy of Technical Science)\, is a two-part workshop designed for 1st and 2nd secondary school classes\, focusing on career orientation in IT and laptop programming within a team setting. Over four school hours\, students not only recognize biases in career choices but also boost their self-esteem. The workshop provides insights into the diversity of IT professions\, sheds light on their significance\, and demonstrates how relevant skills can influence current challenges. The objective is to engage students playfully and enjoyably\, fostering enthusiasm for the world of IT and technology. \n\n\n\nHow is GirlsCodeToo involved?We teach our ImagiCharm Keychain Programming Workshop. The students create their own pixelated designs in Python. The basics of programming are taught in an intuitive way\, using the ImagiCharm Keychains to display the coded designs and see live how changing code lines on a computer directly changes the output.
URL:https://www.girlscodetoo.ch/en/event/go4it-yverdon-les-bains-2/
CATEGORIES:For Schools
ATTACH;FMTTYPE=image/png:https://www.girlscodetoo.ch/wp-content/uploads/2025/08/image-1024x576-1-bv24ui.png
END:VEVENT
BEGIN:VEVENT
DTSTART;TZID=UTC:20240219T000000
DTEND;TZID=UTC:20240219T000000
DTSTAMP:20260423T113118
CREATED:20250731T233917Z
LAST-MODIFIED:20250731T233917Z
UID:63499-1708300800-1708300800@www.girlscodetoo.ch
SUMMARY:Go4IT - Yverdon-les-Bains
DESCRIPTION:What is Go4IT?Go4IT\, offered by the satw (Swiss Academy of Technical Science)\, is a two-part workshop designed for 1st and 2nd secondary school classes\, focusing on career orientation in IT and laptop programming within a team setting. Over four school hours\, students not only recognize biases in career choices but also boost their self-esteem. The workshop provides insights into the diversity of IT professions\, sheds light on their significance\, and demonstrates how relevant skills can influence current challenges. The objective is to engage students playfully and enjoyably\, fostering enthusiasm for the world of IT and technology. \n\n\n\nHow is GirlsCodeToo involved?We teach our ImagiCharm Keychain Programming Workshop. The students create their own pixelated designs in Python. The basics of programming are taught in an intuitive way\, using the ImagiCharm Keychains to display the coded designs and see live how changing code lines on a computer directly changes the output.
URL:https://www.girlscodetoo.ch/en/event/go4it-yverdon-les-bains-3/
CATEGORIES:For Schools
ATTACH;FMTTYPE=image/png:https://www.girlscodetoo.ch/wp-content/uploads/2025/08/image-1024x576-1-bv24ui.png
END:VEVENT
BEGIN:VEVENT
DTSTART;TZID=UTC:20240219T000000
DTEND;TZID=UTC:20240219T000000
DTSTAMP:20260423T113118
CREATED:20250731T233928Z
LAST-MODIFIED:20250731T233928Z
UID:63500-1708300800-1708300800@www.girlscodetoo.ch
SUMMARY:Go4IT - Bercher
DESCRIPTION:What is Go4IT?Go4IT\, offered by the satw (Swiss Academy of Technical Science)\, is a two-part workshop designed for 1st and 2nd secondary school classes\, focusing on career orientation in IT and laptop programming within a team setting. Over four school hours\, students not only recognize biases in career choices but also boost their self-esteem. The workshop provides insights into the diversity of IT professions\, sheds light on their significance\, and demonstrates how relevant skills can influence current challenges. The objective is to engage students playfully and enjoyably\, fostering enthusiasm for the world of IT and technology. \n\n\n\nHow is GirlsCodeToo involved?We teach our ImagiCharm Keychain Programming Workshop. The students create their own pixelated designs in Python. The basics of programming are taught in an intuitive way\, using the ImagiCharm Keychains to display the coded designs and see live how changing code lines on a computer directly changes the output.
URL:https://www.girlscodetoo.ch/en/event/go4it-bercher/
CATEGORIES:For Schools
ATTACH;FMTTYPE=image/png:https://www.girlscodetoo.ch/wp-content/uploads/2025/08/image-1024x576-1-bv24ui.png
END:VEVENT
BEGIN:VEVENT
DTSTART;TZID=UTC:20240219T000000
DTEND;TZID=UTC:20240219T000000
DTSTAMP:20260423T113118
CREATED:20250731T233929Z
LAST-MODIFIED:20250731T233929Z
UID:63501-1708300800-1708300800@www.girlscodetoo.ch
SUMMARY:Go4IT - Bercher
DESCRIPTION:What is Go4IT?Go4IT\, offered by the satw (Swiss Academy of Technical Science)\, is a two-part workshop designed for 1st and 2nd secondary school classes\, focusing on career orientation in IT and laptop programming within a team setting. Over four school hours\, students not only recognize biases in career choices but also boost their self-esteem. The workshop provides insights into the diversity of IT professions\, sheds light on their significance\, and demonstrates how relevant skills can influence current challenges. The objective is to engage students playfully and enjoyably\, fostering enthusiasm for the world of IT and technology. \n\n\n\nHow is GirlsCodeToo involved?We teach our ImagiCharm Keychain Programming Workshop. The students create their own pixelated designs in Python. The basics of programming are taught in an intuitive way\, using the ImagiCharm Keychains to display the coded designs and see live how changing code lines on a computer directly changes the output.
URL:https://www.girlscodetoo.ch/en/event/go4it-bercher-2/
CATEGORIES:For Schools
ATTACH;FMTTYPE=image/png:https://www.girlscodetoo.ch/wp-content/uploads/2025/08/image-1024x576-1-bv24ui.png
END:VEVENT
BEGIN:VEVENT
DTSTART;TZID=UTC:20240219T000000
DTEND;TZID=UTC:20240219T000000
DTSTAMP:20260423T113118
CREATED:20250731T233930Z
LAST-MODIFIED:20250731T233930Z
UID:63502-1708300800-1708300800@www.girlscodetoo.ch
SUMMARY:Go4IT - Grandson
DESCRIPTION:What is Go4IT?Go4IT\, offered by the satw (Swiss Academy of Technical Science)\, is a two-part workshop designed for 1st and 2nd secondary school classes\, focusing on career orientation in IT and laptop programming within a team setting. Over four school hours\, students not only recognize biases in career choices but also boost their self-esteem. The workshop provides insights into the diversity of IT professions\, sheds light on their significance\, and demonstrates how relevant skills can influence current challenges. The objective is to engage students playfully and enjoyably\, fostering enthusiasm for the world of IT and technology. \n\n\n\nHow is GirlsCodeToo involved?We teach our ImagiCharm Keychain Programming Workshop. The students create their own pixelated designs in Python. The basics of programming are taught in an intuitive way\, using the ImagiCharm Keychains to display the coded designs and see live how changing code lines on a computer directly changes the output.
URL:https://www.girlscodetoo.ch/en/event/go4it-grandson/
CATEGORIES:For Schools
ATTACH;FMTTYPE=image/png:https://www.girlscodetoo.ch/wp-content/uploads/2025/08/image-1024x576-1-bv24ui.png
END:VEVENT
BEGIN:VEVENT
DTSTART;TZID=UTC:20240219T000000
DTEND;TZID=UTC:20240219T000000
DTSTAMP:20260423T113118
CREATED:20250731T233931Z
LAST-MODIFIED:20250731T233931Z
UID:63503-1708300800-1708300800@www.girlscodetoo.ch
SUMMARY:Go4IT - Grandson
DESCRIPTION:What is Go4IT?Go4IT\, offered by the satw (Swiss Academy of Technical Science)\, is a two-part workshop designed for 1st and 2nd secondary school classes\, focusing on career orientation in IT and laptop programming within a team setting. Over four school hours\, students not only recognize biases in career choices but also boost their self-esteem. The workshop provides insights into the diversity of IT professions\, sheds light on their significance\, and demonstrates how relevant skills can influence current challenges. The objective is to engage students playfully and enjoyably\, fostering enthusiasm for the world of IT and technology. \n\n\n\nHow is GirlsCodeToo involved?We teach our ImagiCharm Keychain Programming Workshop. The students create their own pixelated designs in Python. The basics of programming are taught in an intuitive way\, using the ImagiCharm Keychains to display the coded designs and see live how changing code lines on a computer directly changes the output.
URL:https://www.girlscodetoo.ch/en/event/go4it-grandson-2/
CATEGORIES:For Schools
ATTACH;FMTTYPE=image/png:https://www.girlscodetoo.ch/wp-content/uploads/2025/08/image-1024x576-1-bv24ui.png
END:VEVENT
END:VCALENDAR