BEGIN:VCALENDAR
VERSION:2.0
PRODID:-//GirlsCodeToo - ECPv6.15.20//NONSGML v1.0//EN
CALSCALE:GREGORIAN
METHOD:PUBLISH
X-WR-CALNAME:GirlsCodeToo
X-ORIGINAL-URL:https://www.girlscodetoo.ch/en
X-WR-CALDESC:Events for GirlsCodeToo
REFRESH-INTERVAL;VALUE=DURATION:PT1H
X-Robots-Tag:noindex
X-PUBLISHED-TTL:PT1H
BEGIN:VTIMEZONE
TZID:UTC
BEGIN:STANDARD
TZOFFSETFROM:+0000
TZOFFSETTO:+0000
TZNAME:UTC
DTSTART:20230101T000000
END:STANDARD
END:VTIMEZONE
BEGIN:VEVENT
DTSTART;TZID=UTC:20240412T000000
DTEND;TZID=UTC:20240412T000000
DTSTAMP:20260422T093231
CREATED:20250731T234046Z
LAST-MODIFIED:20250731T234046Z
UID:63512-1712880000-1712880000@www.girlscodetoo.ch
SUMMARY:Go4IT - Riedenhalden
DESCRIPTION:What is Go4IT?Go4IT\, offered by the satw (Swiss Academy of Technical Science)\, is a two-part workshop designed for 1st and 2nd secondary school classes\, focusing on career orientation in IT and laptop programming within a team setting. Over four school hours\, students not only recognize biases in career choices but also boost their self-esteem. The workshop provides insights into the diversity of IT professions\, sheds light on their significance\, and demonstrates how relevant skills can influence current challenges. The objective is to engage students playfully and enjoyably\, fostering enthusiasm for the world of IT and technology. \n\n\n\nHow is GirlsCodeToo involved?We teach our ImagiCharm Keychain Programming Workshop. The students create their own pixelated designs in Python. The basics of programming are taught in an intuitive way\, using the ImagiCharm Keychains to display the coded designs and see live how changing code lines on a computer directly changes the output.
URL:https://www.girlscodetoo.ch/en/event/go4it-riedenhalden/
CATEGORIES:For Schools
ATTACH;FMTTYPE=image/png:https://www.girlscodetoo.ch/wp-content/uploads/2025/08/image-1024x576-1-bv24ui.png
END:VEVENT
BEGIN:VEVENT
DTSTART;TZID=UTC:20240412T000000
DTEND;TZID=UTC:20240412T000000
DTSTAMP:20260422T093231
CREATED:20250731T234116Z
LAST-MODIFIED:20250731T234116Z
UID:63513-1712880000-1712880000@www.girlscodetoo.ch
SUMMARY:Go4IT - Prilly
DESCRIPTION:What is Go4IT?Go4IT\, offered by the satw (Swiss Academy of Technical Science)\, is a two-part workshop designed for 1st and 2nd secondary school classes\, focusing on career orientation in IT and laptop programming within a team setting. Over four school hours\, students not only recognize biases in career choices but also boost their self-esteem. The workshop provides insights into the diversity of IT professions\, sheds light on their significance\, and demonstrates how relevant skills can influence current challenges. The objective is to engage students playfully and enjoyably\, fostering enthusiasm for the world of IT and technology. \n\n\n\nHow is GirlsCodeToo involved?We teach our ImagiCharm Keychain Programming Workshop. The students create their own pixelated designs in Python. The basics of programming are taught in an intuitive way\, using the ImagiCharm Keychains to display the coded designs and see live how changing code lines on a computer directly changes the output.
URL:https://www.girlscodetoo.ch/en/event/go4it-prilly/
CATEGORIES:For Schools
ATTACH;FMTTYPE=image/png:https://www.girlscodetoo.ch/wp-content/uploads/2025/08/image-1024x576-1-bv24ui.png
END:VEVENT
BEGIN:VEVENT
DTSTART;TZID=UTC:20240412T000000
DTEND;TZID=UTC:20240412T000000
DTSTAMP:20260422T093231
CREATED:20250731T234117Z
LAST-MODIFIED:20250731T234117Z
UID:63514-1712880000-1712880000@www.girlscodetoo.ch
SUMMARY:TecDay - Wohlen
DESCRIPTION:What are TecDays?Since 2007\, SATW has been organizing TecDays at Swiss high schools. During this full-day event\, all high school students attend three elective modules on technical and scientific topics. The hands-on modules provide ample visual materials\, experiments\, models\, or small projects\, offering insights into the activities and daily lives of professionals. Module leaders are experienced experts from industry\, universities\, research institutions\, and non-profit organizations. \n\n\n\n\n\nHow is GirlsCodeToo involved?We teach our Mobile App Development Workshop. The students create their own app in JavaScript using either block based programming or text in Code.org. First\, the properties of the app are set. It is then made interactive\, images\, sounds and designs are added and it can finally be shared.
URL:https://www.girlscodetoo.ch/en/event/tecday-wohlen/
CATEGORIES:For Schools
ATTACH;FMTTYPE=image/png:https://www.girlscodetoo.ch/wp-content/uploads/2025/08/mint_netzwerkpartner_tecday-1-DPakw7.png
END:VEVENT
BEGIN:VEVENT
DTSTART;TZID=UTC:20240412T000000
DTEND;TZID=UTC:20240412T000000
DTSTAMP:20260422T093231
CREATED:20250731T234118Z
LAST-MODIFIED:20250731T234118Z
UID:63515-1712880000-1712880000@www.girlscodetoo.ch
SUMMARY:TecDay - La Chaux-de-Fonds
DESCRIPTION:What are TecDays?Since 2007\, SATW has been organizing TecDays at Swiss high schools. During this full-day event\, all high school students attend three elective modules on technical and scientific topics. The hands-on modules provide ample visual materials\, experiments\, models\, or small projects\, offering insights into the activities and daily lives of professionals. Module leaders are experienced experts from industry\, universities\, research institutions\, and non-profit organizations. \n\n\n\n\n\nHow is GirlsCodeToo involved?We teach our Mobile App Development Workshop. The students create their own app in JavaScript using either block based programming or text in Code.org. First\, the properties of the app are set. It is then made interactive\, images\, sounds and designs are added and it can finally be shared.
URL:https://www.girlscodetoo.ch/en/event/tecday-la-chaux-de-fonds/
CATEGORIES:For Schools
ATTACH;FMTTYPE=image/png:https://www.girlscodetoo.ch/wp-content/uploads/2025/08/mint_netzwerkpartner_tecday-1-DPakw7.png
END:VEVENT
BEGIN:VEVENT
DTSTART;TZID=UTC:20240412T000000
DTEND;TZID=UTC:20240412T000000
DTSTAMP:20260422T093231
CREATED:20250731T234119Z
LAST-MODIFIED:20250731T234119Z
UID:63516-1712880000-1712880000@www.girlscodetoo.ch
SUMMARY:TecDay - Menzingen
DESCRIPTION:What are TecDays?Since 2007\, SATW has been organizing TecDays at Swiss high schools. During this full-day event\, all high school students attend three elective modules on technical and scientific topics. The hands-on modules provide ample visual materials\, experiments\, models\, or small projects\, offering insights into the activities and daily lives of professionals. Module leaders are experienced experts from industry\, universities\, research institutions\, and non-profit organizations. \n\n\n\n\n\nHow is GirlsCodeToo involved?We teach our Mobile App Development Workshop. The students create their own app in JavaScript using either block based programming or text in Code.org. First\, the properties of the app are set. It is then made interactive\, images\, sounds and designs are added and it can finally be shared.
URL:https://www.girlscodetoo.ch/en/event/tecday-menzingen/
CATEGORIES:For Schools
ATTACH;FMTTYPE=image/png:https://www.girlscodetoo.ch/wp-content/uploads/2025/08/mint_netzwerkpartner_tecday-1-DPakw7.png
END:VEVENT
END:VCALENDAR